BEGIN:VCALENDAR
VERSION:2.0
PRODID:-//Library Market//iCal Export//EN
BEGIN:VEVENT
SUMMARY:Creative Sips
UID:8796
DTSTAMP:20260419T145600Z
DTSTART:20260422T230000Z
DTEND:20260423T000000Z
LOCATION:19901 Stony Island Avenue, Lynwood, IL 60411, United States
ROOM: Creative Sips
DESCRIPTION:Add a personal touch to a fun, functional item at the library!
  Participants will decorate a color-changing tumbler using stickers and ru
 b-on transfers. Watch your design come to life as the tumbler changes colo
 r with cold drinks. Limit 12.
URL:https://glenwoodlynwood.librarycalendar.com/event/creative-sips-8796
END:VEVENT
END:VCALENDAR
