BEGIN:VCALENDAR
VERSION:2.0
PRODID:-//Library Market//iCal Export//EN
BEGIN:VEVENT
SUMMARY:Memory Cafe
UID:8821
DTSTAMP:20260421T135500Z
DTSTART:20260428T170000Z
DTEND:20260428T190000Z
LOCATION:19901 Stony Island Avenue, Lynwood, IL 60411, United States
ROOM: Memory Cafe
DESCRIPTION:Tuesdays: March 24, April 28th, May 26 | 12 PM – 2 PMA welco
 ming space for individuals with memory loss and their caregivers to connec
 t, share experiences, and enjoy engaging activities. In partnership with M
 powered, this program offers support, conversation, and creative engagemen
 t in a relaxed environment. 
URL:https://glenwoodlynwood.librarycalendar.com/event/memory-cafe-8821
END:VEVENT
END:VCALENDAR
